Package: methylumi Version: 2.46.0 Command: /Library/Frameworks/R.framework/Resources/bin/R CMD build --keep-empty-dirs --no-resave-data methylumi StartedAt: 2023-10-15 19:26:52 -0400 (Sun, 15 Oct 2023) EndedAt: 2023-10-15 19:35:10 -0400 (Sun, 15 Oct 2023) EllapsedTime: 498.4 seconds RetCode: 0 Status: OK PackageFile: methylumi_2.46.0.tar.gz PackageFileSize: 7.342 MiB