Package: methylscaper Version: 1.8.6 Command: /Library/Frameworks/R.framework/Resources/bin/R CMD check --install=check:methylscaper.install-out.txt --library=/Library/Frameworks/R.framework/Resources/library --no-vignettes --timings methylscaper_1.8.6.tar.gz StartedAt: 2023-10-16 03:47:33 -0400 (Mon, 16 Oct 2023) EndedAt: 2023-10-16 03:54:54 -0400 (Mon, 16 Oct 2023) EllapsedTime: 441.2 seconds RetCode: 0 Status: OK CheckDir: methylscaper.Rcheck Warnings: 0