Package: methylclock Version: 1.6.0 Command: rm -rf methylclock.buildbin-libdir && mkdir methylclock.buildbin-libdir && F:\biocbuild\bbs-3.17-bioc\R\bin\R.exe CMD INSTALL --build --library=methylclock.buildbin-libdir methylclock_1.6.0.tar.gz StartedAt: 2023-10-16 09:04:01 -0400 (Mon, 16 Oct 2023) EndedAt: 2023-10-16 09:05:58 -0400 (Mon, 16 Oct 2023) EllapsedTime: 116.4 seconds RetCode: 0 Status: OK PackageFile: methylclock_1.6.0.zip PackageFileSize: 1.016 MiB