Package: methylclock Version: 1.6.0 Command: /home/biocbuild/bbs-3.17-bioc/R/bin/R CMD INSTALL methylclock StartedAt: 2023-10-15 15:51:06 -0400 (Sun, 15 Oct 2023) EndedAt: 2023-10-15 15:52:23 -0400 (Sun, 15 Oct 2023) EllapsedTime: 77.0 seconds RetCode: 0 Status: OK