Package: methylclock Version: 1.6.0 Command: /home/biocbuild/bbs-3.17-bioc/R/bin/R CMD check --install=check:methylclock.install-out.txt --library=/home/biocbuild/bbs-3.17-bioc/R/site-library --timings methylclock_1.6.0.tar.gz StartedAt: 2023-10-15 22:42:48 -0400 (Sun, 15 Oct 2023) EndedAt: 2023-10-15 23:01:03 -0400 (Sun, 15 Oct 2023) EllapsedTime: 1094.7 seconds RetCode: 0 Status: OK CheckDir: methylclock.Rcheck Warnings: 0