Package: methylclock Version: 1.6.0 Command: /Library/Frameworks/R.framework/Resources/bin/R CMD build --keep-empty-dirs --no-resave-data methylclock StartedAt: 2023-10-15 19:24:22 -0400 (Sun, 15 Oct 2023) EndedAt: 2023-10-15 19:32:31 -0400 (Sun, 15 Oct 2023) EllapsedTime: 489.2 seconds RetCode: 1 Status: ERROR PackageFile: None PackageFileSize: NA