Package: methylSig Version: 1.12.0 Command: /Library/Frameworks/R.framework/Resources/bin/R CMD build --keep-empty-dirs --no-resave-data methylSig StartedAt: 2023-10-15 19:26:47 -0400 (Sun, 15 Oct 2023) EndedAt: 2023-10-15 19:29:56 -0400 (Sun, 15 Oct 2023) EllapsedTime: 188.7 seconds RetCode: 0 Status: OK PackageFile: methylSig_1.12.0.tar.gz PackageFileSize: 492.3 KiB