Package: methylPipe Version: 1.34.1 Command: /home/biocbuild/bbs-3.17-bioc/R/bin/R CMD INSTALL methylPipe StartedAt: 2023-10-15 15:30:24 -0400 (Sun, 15 Oct 2023) EndedAt: 2023-10-15 15:31:18 -0400 (Sun, 15 Oct 2023) EllapsedTime: 54.0 seconds RetCode: 0 Status: OK