Package: methylPipe Version: 1.34.1 Command: /home/biocbuild/bbs-3.17-bioc/R/bin/R CMD build --keep-empty-dirs --no-resave-data methylPipe StartedAt: 2023-10-15 17:24:46 -0400 (Sun, 15 Oct 2023) EndedAt: 2023-10-15 17:27:09 -0400 (Sun, 15 Oct 2023) EllapsedTime: 143.0 seconds RetCode: 0 Status: OK PackageFile: methylPipe_1.34.1.tar.gz PackageFileSize: 584.5 KiB