Package: methylPipe Version: 1.34.1 Command: /Library/Frameworks/R.framework/Resources/bin/R CMD INSTALL methylPipe StartedAt: 2023-10-15 15:53:30 -0400 (Sun, 15 Oct 2023) EndedAt: 2023-10-15 15:56:16 -0400 (Sun, 15 Oct 2023) EllapsedTime: 165.8 seconds RetCode: 0 Status: OK