Package: methylPipe Version: 1.34.1 Command: rm -rf methylPipe.buildbin-libdir && mkdir methylPipe.buildbin-libdir && /Users/biocbuild/BBS/utils/build-universal.sh methylPipe_1.34.1.tar.gz /Library/Frameworks/R.framework/Resources/bin/R methylPipe.buildbin-libdir StartedAt: 2023-10-16 09:42:38 -0400 (Mon, 16 Oct 2023) EndedAt: 2023-10-16 09:45:27 -0400 (Mon, 16 Oct 2023) EllapsedTime: 168.8 seconds RetCode: 0 Status: OK PackageFile: methylPipe_1.34.1.tgz PackageFileSize: 1.275 MiB