Package: methylMnM Version: 1.38.0 Command: /home/biocbuild/bbs-3.17-bioc/R/bin/R CMD check --install=check:methylMnM.install-out.txt --library=/home/biocbuild/bbs-3.17-bioc/R/site-library --timings methylMnM_1.38.0.tar.gz StartedAt: 2023-10-15 22:43:39 -0400 (Sun, 15 Oct 2023) EndedAt: 2023-10-15 22:45:29 -0400 (Sun, 15 Oct 2023) EllapsedTime: 109.7 seconds RetCode: 0 Status: OK CheckDir: methylMnM.Rcheck Warnings: 0