Package: methylKit Version: 1.26.0 Command: F:\biocbuild\bbs-3.17-bioc\R\bin\R.exe CMD check --no-multiarch --install=check:methylKit.install-out.txt --library=F:\biocbuild\bbs-3.17-bioc\R\library --no-vignettes --timings methylKit_1.26.0.tar.gz StartedAt: 2023-10-16 03:57:59 -0400 (Mon, 16 Oct 2023) EndedAt: 2023-10-16 04:05:05 -0400 (Mon, 16 Oct 2023) EllapsedTime: 426.0 seconds RetCode: 0 Status: WARNINGS CheckDir: methylKit.Rcheck Warnings: 1