Package: methylKit Version: 1.26.0 Command: rm -rf methylKit.buildbin-libdir && mkdir methylKit.buildbin-libdir && F:\biocbuild\bbs-3.17-bioc\R\bin\R.exe CMD INSTALL --build --library=methylKit.buildbin-libdir methylKit_1.26.0.tar.gz StartedAt: 2023-10-16 09:04:08 -0400 (Mon, 16 Oct 2023) EndedAt: 2023-10-16 09:05:34 -0400 (Mon, 16 Oct 2023) EllapsedTime: 86.6 seconds RetCode: 0 Status: OK PackageFile: methylKit_1.26.0.zip PackageFileSize: 6.423 MiB