Package: methylKit Version: 1.26.0 Command: /home/biocbuild/bbs-3.17-bioc/R/bin/R CMD check --install=check:methylKit.install-out.txt --library=/home/biocbuild/bbs-3.17-bioc/R/site-library --timings methylKit_1.26.0.tar.gz StartedAt: 2023-10-15 22:42:58 -0400 (Sun, 15 Oct 2023) EndedAt: 2023-10-15 22:49:02 -0400 (Sun, 15 Oct 2023) EllapsedTime: 363.9 seconds RetCode: 0 Status: WARNINGS CheckDir: methylKit.Rcheck Warnings: 2