Package: methylKit Version: 1.26.0 Command: /Library/Frameworks/R.framework/Resources/bin/R CMD build --keep-empty-dirs --no-resave-data methylKit StartedAt: 2023-10-15 19:25:26 -0400 (Sun, 15 Oct 2023) EndedAt: 2023-10-15 19:28:53 -0400 (Sun, 15 Oct 2023) EllapsedTime: 207.0 seconds RetCode: 0 Status: OK PackageFile: methylKit_1.26.0.tar.gz PackageFileSize: 1.303 MiB