Package: methylGSA Version: 1.18.0 Command: chmod a+r methylGSA -R && F:\biocbuild\bbs-3.17-bioc\R\bin\R.exe CMD build --keep-empty-dirs --no-resave-data methylGSA StartedAt: 2023-10-15 20:21:03 -0400 (Sun, 15 Oct 2023) EndedAt: 2023-10-15 20:22:47 -0400 (Sun, 15 Oct 2023) EllapsedTime: 104.5 seconds RetCode: 0 Status: OK PackageFile: methylGSA_1.18.0.tar.gz PackageFileSize: 3.113 MiB