Package: methylGSA Version: 1.18.0 Command: /home/biocbuild/bbs-3.17-bioc/R/bin/R CMD check --install=check:methylGSA.install-out.txt --library=/home/biocbuild/bbs-3.17-bioc/R/site-library --timings methylGSA_1.18.0.tar.gz StartedAt: 2023-10-15 22:42:54 -0400 (Sun, 15 Oct 2023) EndedAt: 2023-10-15 22:50:07 -0400 (Sun, 15 Oct 2023) EllapsedTime: 433.3 seconds RetCode: 0 Status: OK CheckDir: methylGSA.Rcheck Warnings: 0