Package: methylGSA Version: 1.18.0 Command: /Library/Frameworks/R.framework/Resources/bin/R CMD INSTALL methylGSA StartedAt: 2023-10-15 16:34:27 -0400 (Sun, 15 Oct 2023) EndedAt: 2023-10-15 16:36:22 -0400 (Sun, 15 Oct 2023) EllapsedTime: 114.9 seconds RetCode: 0 Status: OK