Package: methylGSA Version: 1.18.0 Command: /Library/Frameworks/R.framework/Resources/bin/R CMD build --keep-empty-dirs --no-resave-data methylGSA StartedAt: 2023-10-15 19:24:54 -0400 (Sun, 15 Oct 2023) EndedAt: 2023-10-15 19:28:27 -0400 (Sun, 15 Oct 2023) EllapsedTime: 213.4 seconds RetCode: 0 Status: OK PackageFile: methylGSA_1.18.0.tar.gz PackageFileSize: 3.135 MiB