Package: methylGSA Version: 1.18.0 Command: rm -rf methylGSA.buildbin-libdir && mkdir methylGSA.buildbin-libdir && /Users/biocbuild/BBS/utils/build-universal.sh methylGSA_1.18.0.tar.gz /Library/Frameworks/R.framework/Resources/bin/R methylGSA.buildbin-libdir StartedAt: 2023-10-16 09:42:29 -0400 (Mon, 16 Oct 2023) EndedAt: 2023-10-16 09:45:12 -0400 (Mon, 16 Oct 2023) EllapsedTime: 162.7 seconds RetCode: 0 Status: OK PackageFile: methylGSA_1.18.0.tgz PackageFileSize: 3.182 MiB