Package: methylCC Version: 1.14.0 Command: chmod a+r methylCC -R && F:\biocbuild\bbs-3.17-bioc\R\bin\R.exe CMD build --keep-empty-dirs --no-resave-data methylCC StartedAt: 2023-10-15 20:20:39 -0400 (Sun, 15 Oct 2023) EndedAt: 2023-10-15 20:24:22 -0400 (Sun, 15 Oct 2023) EllapsedTime: 223.2 seconds RetCode: 0 Status: OK PackageFile: methylCC_1.14.0.tar.gz PackageFileSize: 4.315 MiB