Package: methylCC Version: 1.14.0 Command: rm -rf methylCC.buildbin-libdir && mkdir methylCC.buildbin-libdir && F:\biocbuild\bbs-3.17-bioc\R\bin\R.exe CMD INSTALL --build --library=methylCC.buildbin-libdir methylCC_1.14.0.tar.gz StartedAt: 2023-10-16 09:03:58 -0400 (Mon, 16 Oct 2023) EndedAt: 2023-10-16 09:05:01 -0400 (Mon, 16 Oct 2023) EllapsedTime: 62.7 seconds RetCode: 0 Status: OK PackageFile: methylCC_1.14.0.zip PackageFileSize: 4.655 MiB