Package: methylCC Version: 1.14.0 Command: /home/biocbuild/bbs-3.17-bioc/R/bin/R CMD INSTALL methylCC StartedAt: 2023-10-15 15:46:08 -0400 (Sun, 15 Oct 2023) EndedAt: 2023-10-15 15:46:59 -0400 (Sun, 15 Oct 2023) EllapsedTime: 51.1 seconds RetCode: 0 Status: OK