Package: methylCC Version: 1.14.0 Command: /Library/Frameworks/R.framework/Resources/bin/R CMD INSTALL methylCC StartedAt: 2023-10-15 16:24:44 -0400 (Sun, 15 Oct 2023) EndedAt: 2023-10-15 16:27:27 -0400 (Sun, 15 Oct 2023) EllapsedTime: 162.5 seconds RetCode: 0 Status: OK