Package: methylCC Version: 1.14.0 Command: /Library/Frameworks/R.framework/Resources/bin/R CMD check --install=check:methylCC.install-out.txt --library=/Library/Frameworks/R.framework/Resources/library --no-vignettes --timings methylCC_1.14.0.tar.gz StartedAt: 2023-10-16 03:43:48 -0400 (Mon, 16 Oct 2023) EndedAt: 2023-10-16 04:01:08 -0400 (Mon, 16 Oct 2023) EllapsedTime: 1039.6 seconds RetCode: 0 Status: OK CheckDir: methylCC.Rcheck Warnings: 0