Package: methylCC Version: 1.14.0 Command: /Library/Frameworks/R.framework/Resources/bin/R CMD build --keep-empty-dirs --no-resave-data methylCC StartedAt: 2023-10-15 19:24:20 -0400 (Sun, 15 Oct 2023) EndedAt: 2023-10-15 19:31:39 -0400 (Sun, 15 Oct 2023) EllapsedTime: 439.1 seconds RetCode: 0 Status: OK PackageFile: methylCC_1.14.0.tar.gz PackageFileSize: 4.366 MiB