Package: methylCC Version: 1.14.0 Command: rm -rf methylCC.buildbin-libdir && mkdir methylCC.buildbin-libdir && /Users/biocbuild/BBS/utils/build-universal.sh methylCC_1.14.0.tar.gz /Library/Frameworks/R.framework/Resources/bin/R methylCC.buildbin-libdir StartedAt: 2023-10-16 09:42:29 -0400 (Mon, 16 Oct 2023) EndedAt: 2023-10-16 09:45:18 -0400 (Mon, 16 Oct 2023) EllapsedTime: 168.8 seconds RetCode: 0 Status: OK PackageFile: methylCC_1.14.0.tgz PackageFileSize: 4.704 MiB