Package: methimpute Version: 1.22.0 Command: chmod a+r methimpute -R && F:\biocbuild\bbs-3.17-bioc\R\bin\R.exe CMD build --keep-empty-dirs --no-resave-data methimpute StartedAt: 2023-10-15 20:18:40 -0400 (Sun, 15 Oct 2023) EndedAt: 2023-10-15 20:21:10 -0400 (Sun, 15 Oct 2023) EllapsedTime: 149.6 seconds RetCode: 0 Status: OK PackageFile: methimpute_1.22.0.tar.gz PackageFileSize: 1.268 MiB