Package: methimpute Version: 1.22.0 Command: rm -rf methimpute.buildbin-libdir && mkdir methimpute.buildbin-libdir && F:\biocbuild\bbs-3.17-bioc\R\bin\R.exe CMD INSTALL --build --library=methimpute.buildbin-libdir methimpute_1.22.0.tar.gz StartedAt: 2023-10-16 09:03:48 -0400 (Mon, 16 Oct 2023) EndedAt: 2023-10-16 09:04:51 -0400 (Mon, 16 Oct 2023) EllapsedTime: 63.1 seconds RetCode: 0 Status: OK PackageFile: methimpute_1.22.0.zip PackageFileSize: 1.912 MiB