Package: methimpute Version: 1.22.0 Command: /Library/Frameworks/R.framework/Resources/bin/R CMD check --install=check:methimpute.install-out.txt --library=/Library/Frameworks/R.framework/Resources/library --no-vignettes --timings methimpute_1.22.0.tar.gz StartedAt: 2023-10-16 03:41:40 -0400 (Mon, 16 Oct 2023) EndedAt: 2023-10-16 03:48:01 -0400 (Mon, 16 Oct 2023) EllapsedTime: 381.3 seconds RetCode: 0 Status: OK CheckDir: methimpute.Rcheck Warnings: 0