Package: metavizr Version: 1.24.0 Command: chmod a+r metavizr -R && F:\biocbuild\bbs-3.17-bioc\R\bin\R.exe CMD build --keep-empty-dirs --no-resave-data metavizr StartedAt: 2023-10-15 20:18:29 -0400 (Sun, 15 Oct 2023) EndedAt: 2023-10-15 20:19:55 -0400 (Sun, 15 Oct 2023) EllapsedTime: 85.8 seconds RetCode: 1 Status: ERROR PackageFile: None PackageFileSize: NA