Package: metapod Version: 1.8.0 Command: F:\biocbuild\bbs-3.17-bioc\R\bin\R.exe CMD INSTALL metapod StartedAt: 2023-10-15 15:49:29 -0400 (Sun, 15 Oct 2023) EndedAt: 2023-10-15 15:50:11 -0400 (Sun, 15 Oct 2023) EllapsedTime: 42.1 seconds RetCode: 0 Status: OK