Package: metapod Version: 1.8.0 Command: F:\biocbuild\bbs-3.17-bioc\R\bin\R.exe CMD check --no-multiarch --install=check:metapod.install-out.txt --library=F:\biocbuild\bbs-3.17-bioc\R\library --no-vignettes --timings metapod_1.8.0.tar.gz StartedAt: 2023-10-16 03:52:29 -0400 (Mon, 16 Oct 2023) EndedAt: 2023-10-16 03:53:21 -0400 (Mon, 16 Oct 2023) EllapsedTime: 51.3 seconds RetCode: 0 Status: OK CheckDir: metapod.Rcheck Warnings: 0