Package: metabomxtr Version: 1.34.0 Command: rm -rf metabomxtr.buildbin-libdir && mkdir metabomxtr.buildbin-libdir && F:\biocbuild\bbs-3.17-bioc\R\bin\R.exe CMD INSTALL --build --library=metabomxtr.buildbin-libdir metabomxtr_1.34.0.tar.gz StartedAt: 2023-10-16 09:03:17 -0400 (Mon, 16 Oct 2023) EndedAt: 2023-10-16 09:03:32 -0400 (Mon, 16 Oct 2023) EllapsedTime: 14.8 seconds RetCode: 0 Status: OK PackageFile: metabomxtr_1.34.0.zip PackageFileSize: 433.6 KiB