Package: metabomxtr Version: 1.34.0 Command: /Library/Frameworks/R.framework/Resources/bin/R CMD check --install=check:metabomxtr.install-out.txt --library=/Library/Frameworks/R.framework/Resources/library --no-vignettes --timings metabomxtr_1.34.0.tar.gz StartedAt: 2023-10-16 03:38:42 -0400 (Mon, 16 Oct 2023) EndedAt: 2023-10-16 03:41:58 -0400 (Mon, 16 Oct 2023) EllapsedTime: 196.7 seconds RetCode: 0 Status: OK CheckDir: metabomxtr.Rcheck Warnings: 0