Package: metabolomicsWorkbenchR Version: 1.10.0 Command: chmod a+r metabolomicsWorkbenchR -R && F:\biocbuild\bbs-3.17-bioc\R\bin\R.exe CMD build --keep-empty-dirs --no-resave-data metabolomicsWorkbenchR StartedAt: 2023-10-15 20:16:25 -0400 (Sun, 15 Oct 2023) EndedAt: 2023-10-15 20:17:57 -0400 (Sun, 15 Oct 2023) EllapsedTime: 91.7 seconds RetCode: 0 Status: OK PackageFile: metabolomicsWorkbenchR_1.10.0.tar.gz PackageFileSize: 1.793 MiB