Package: metabolomicsWorkbenchR Version: 1.10.0 Command: rm -rf metabolomicsWorkbenchR.buildbin-libdir && mkdir metabolomicsWorkbenchR.buildbin-libdir && F:\biocbuild\bbs-3.17-bioc\R\bin\R.exe CMD INSTALL --build --library=metabolomicsWorkbenchR.buildbin-libdir metabolomicsWorkbenchR_1.10.0.tar.gz StartedAt: 2023-10-16 09:03:15 -0400 (Mon, 16 Oct 2023) EndedAt: 2023-10-16 09:03:49 -0400 (Mon, 16 Oct 2023) EllapsedTime: 34.5 seconds RetCode: 0 Status: OK PackageFile: metabolomicsWorkbenchR_1.10.0.zip PackageFileSize: 2.103 MiB