Package: metabolomicsWorkbenchR Version: 1.10.0 Command: /home/biocbuild/bbs-3.17-bioc/R/bin/R CMD INSTALL metabolomicsWorkbenchR StartedAt: 2023-10-15 15:14:00 -0400 (Sun, 15 Oct 2023) EndedAt: 2023-10-15 15:14:26 -0400 (Sun, 15 Oct 2023) EllapsedTime: 25.9 seconds RetCode: 0 Status: OK