Package: metabolomicsWorkbenchR Version: 1.10.0 Command: /home/biocbuild/bbs-3.17-bioc/R/bin/R CMD check --install=check:metabolomicsWorkbenchR.install-out.txt --library=/home/biocbuild/bbs-3.17-bioc/R/site-library --timings metabolomicsWorkbenchR_1.10.0.tar.gz StartedAt: 2023-10-15 22:37:28 -0400 (Sun, 15 Oct 2023) EndedAt: 2023-10-15 22:41:14 -0400 (Sun, 15 Oct 2023) EllapsedTime: 225.5 seconds RetCode: 0 Status: OK CheckDir: metabolomicsWorkbenchR.Rcheck Warnings: 0