Package: metabolomicsWorkbenchR Version: 1.10.0 Command: /home/biocbuild/bbs-3.17-bioc/R/bin/R CMD build --keep-empty-dirs --no-resave-data metabolomicsWorkbenchR StartedAt: 2023-10-15 17:21:26 -0400 (Sun, 15 Oct 2023) EndedAt: 2023-10-15 17:22:48 -0400 (Sun, 15 Oct 2023) EllapsedTime: 81.9 seconds RetCode: 0 Status: OK PackageFile: metabolomicsWorkbenchR_1.10.0.tar.gz PackageFileSize: 1.866 MiB