Package: metabolomicsWorkbenchR Version: 1.10.0 Command: /Library/Frameworks/R.framework/Resources/bin/R CMD check --install=check:metabolomicsWorkbenchR.install-out.txt --library=/Library/Frameworks/R.framework/Resources/library --no-vignettes --timings metabolomicsWorkbenchR_1.10.0.tar.gz StartedAt: 2023-10-16 03:38:23 -0400 (Mon, 16 Oct 2023) EndedAt: 2023-10-16 03:45:15 -0400 (Mon, 16 Oct 2023) EllapsedTime: 412.3 seconds RetCode: 0 Status: OK CheckDir: metabolomicsWorkbenchR.Rcheck Warnings: 0