Package: metabinR Version: 1.2.0 Command: F:\biocbuild\bbs-3.17-bioc\R\bin\R.exe CMD INSTALL metabinR StartedAt: 2023-10-15 15:52:10 -0400 (Sun, 15 Oct 2023) EndedAt: 2023-10-15 15:52:27 -0400 (Sun, 15 Oct 2023) EllapsedTime: 16.8 seconds RetCode: 0 Status: OK