Package: metabinR Version: 1.2.0 Command: chmod a+r metabinR -R && F:\biocbuild\bbs-3.17-bioc\R\bin\R.exe CMD build --keep-empty-dirs --no-resave-data metabinR StartedAt: 2023-10-15 20:16:08 -0400 (Sun, 15 Oct 2023) EndedAt: 2023-10-15 20:16:56 -0400 (Sun, 15 Oct 2023) EllapsedTime: 47.3 seconds RetCode: 0 Status: OK PackageFile: metabinR_1.2.0.tar.gz PackageFileSize: 4.355 MiB