Package: metabinR Version: 1.2.0 Command: /Library/Frameworks/R.framework/Resources/bin/R CMD INSTALL metabinR StartedAt: 2023-10-15 15:07:49 -0400 (Sun, 15 Oct 2023) EndedAt: 2023-10-15 15:08:29 -0400 (Sun, 15 Oct 2023) EllapsedTime: 39.6 seconds RetCode: 0 Status: OK