Package: metabinR Version: 1.2.0 Command: /Library/Frameworks/R.framework/Resources/bin/R CMD check --install=check:metabinR.install-out.txt --library=/Library/Frameworks/R.framework/Resources/library --no-vignettes --timings metabinR_1.2.0.tar.gz StartedAt: 2023-10-16 03:37:33 -0400 (Mon, 16 Oct 2023) EndedAt: 2023-10-16 03:39:47 -0400 (Mon, 16 Oct 2023) EllapsedTime: 134.8 seconds RetCode: 0 Status: OK CheckDir: metabinR.Rcheck Warnings: 0