Package: metabinR Version: 1.2.0 Command: /Library/Frameworks/R.framework/Resources/bin/R CMD build --keep-empty-dirs --no-resave-data metabinR StartedAt: 2023-10-15 19:20:26 -0400 (Sun, 15 Oct 2023) EndedAt: 2023-10-15 19:21:50 -0400 (Sun, 15 Oct 2023) EllapsedTime: 83.3 seconds RetCode: 0 Status: OK PackageFile: metabinR_1.2.0.tar.gz PackageFileSize: 4.375 MiB