Package: metabinR Version: 1.2.0 Command: rm -rf metabinR.buildbin-libdir && mkdir metabinR.buildbin-libdir && /Users/biocbuild/BBS/utils/build-universal.sh metabinR_1.2.0.tar.gz /Library/Frameworks/R.framework/Resources/bin/R metabinR.buildbin-libdir StartedAt: 2023-10-16 09:41:30 -0400 (Mon, 16 Oct 2023) EndedAt: 2023-10-16 09:41:40 -0400 (Mon, 16 Oct 2023) EllapsedTime: 10.4 seconds RetCode: 0 Status: OK PackageFile: metabinR_1.2.0.tgz PackageFileSize: 4.354 MiB