Package: metaSeq Version: 1.40.0 Command: rm -rf metaSeq.buildbin-libdir && mkdir metaSeq.buildbin-libdir && F:\biocbuild\bbs-3.17-bioc\R\bin\R.exe CMD INSTALL --build --library=metaSeq.buildbin-libdir metaSeq_1.40.0.tar.gz StartedAt: 2023-10-16 09:03:38 -0400 (Mon, 16 Oct 2023) EndedAt: 2023-10-16 09:03:54 -0400 (Mon, 16 Oct 2023) EllapsedTime: 15.1 seconds RetCode: 0 Status: OK PackageFile: metaSeq_1.40.0.zip PackageFileSize: 6.068 MiB