Package: meshes Version: 1.26.0 Command: F:\biocbuild\bbs-3.17-bioc\R\bin\R.exe CMD check --no-multiarch --install=check:meshes.install-out.txt --library=F:\biocbuild\bbs-3.17-bioc\R\library --no-vignettes --timings meshes_1.26.0.tar.gz StartedAt: 2023-10-16 03:48:43 -0400 (Mon, 16 Oct 2023) EndedAt: 2023-10-16 03:51:43 -0400 (Mon, 16 Oct 2023) EllapsedTime: 179.9 seconds RetCode: 0 Status: OK CheckDir: meshes.Rcheck Warnings: 0